BEGIN:VCALENDAR
VERSION:2.0
PRODID:-//Red Caboose Childcare - ECPv4.4.3//NONSGML v1.0//EN
CALSCALE:GREGORIAN
METHOD:PUBLISH
X-WR-CALNAME:Red Caboose Childcare
X-ORIGINAL-URL:https://www.redcaboosechildcare.org
X-WR-CALDESC:Events for Red Caboose Childcare
BEGIN:VEVENT
DTSTART;VALUE=DATE:20210106
DTEND;VALUE=DATE:20210106
DTSTAMP:20260422T224728
CREATED:20201228T180031Z
LAST-MODIFIED:20201228T180159Z
UID:2291-1609891200-1609977599@www.redcaboosechildcare.org
SUMMARY:01/06 Menu
DESCRIPTION:Breakfast: cinnamon French toast with syrup; fruit; milk [center]\n\nLunch: pot roast; carrots & potatoes; whole grain rolls; fruit; milk [center]\n\nSnack: cheese & crackers [center & school-age]
URL:https://www.redcaboosechildcare.org/event/0106-menu/
END:VEVENT
END:VCALENDAR