BEGIN:VCALENDAR
VERSION:2.0
PRODID:-//Red Caboose Childcare - ECPv4.4.3//NONSGML v1.0//EN
CALSCALE:GREGORIAN
METHOD:PUBLISH
X-WR-CALNAME:Red Caboose Childcare
X-ORIGINAL-URL:https://www.redcaboosechildcare.org
X-WR-CALDESC:Events for Red Caboose Childcare
BEGIN:VEVENT
DTSTART;VALUE=DATE:20210215
DTEND;VALUE=DATE:20210215
DTSTAMP:20260422T021235
CREATED:20210210T193022Z
LAST-MODIFIED:20210210T193022Z
UID:2401-1613347200-1613433599@www.redcaboosechildcare.org
SUMMARY:02/15 Menu
DESCRIPTION:Breakfast: sticky bun day; fruit; milk [center]\n\nLunch: grilled cheese; tomato soup; fruit; milk [center]\n\nSnack: hummus & raw vegetables [center & school-age]
URL:https://www.redcaboosechildcare.org/event/0215-menu/
END:VEVENT
END:VCALENDAR