BEGIN:VCALENDAR
VERSION:2.0
PRODID:-//Red Caboose Childcare - ECPv4.4.3//NONSGML v1.0//EN
CALSCALE:GREGORIAN
METHOD:PUBLISH
X-WR-CALNAME:Red Caboose Childcare
X-ORIGINAL-URL:https://www.redcaboosechildcare.org
X-WR-CALDESC:Events for Red Caboose Childcare
BEGIN:VEVENT
DTSTART;VALUE=DATE:20210224
DTEND;VALUE=DATE:20210224
DTSTAMP:20260422T002449
CREATED:20210217T215109Z
LAST-MODIFIED:20210217T215109Z
UID:2419-1614124800-1614211199@www.redcaboosechildcare.org
SUMMARY:02/24 Menu
DESCRIPTION:Breakfast: sour cherry pancakes with syrup; fruit; milk [center]\n\nLunch: steak; roast potatoes; whole wheat croissants; fruit; milk [center]\n\nSnack: graham crackers; applesauce [center & school-age]
URL:https://www.redcaboosechildcare.org/event/0224-menu/
END:VEVENT
END:VCALENDAR