BEGIN:VCALENDAR
VERSION:2.0
PRODID:-//Red Caboose Childcare - ECPv4.4.3//NONSGML v1.0//EN
CALSCALE:GREGORIAN
METHOD:PUBLISH
X-WR-CALNAME:Red Caboose Childcare
X-ORIGINAL-URL:https://www.redcaboosechildcare.org
X-WR-CALDESC:Events for Red Caboose Childcare
BEGIN:VEVENT
DTSTART;VALUE=DATE:20210111
DTEND;VALUE=DATE:20210111
DTSTAMP:20260422T185638
CREATED:20210107T172042Z
LAST-MODIFIED:20210107T192634Z
UID:2302-1610323200-1610409599@www.redcaboosechildcare.org
SUMMARY:1/11 Menu
DESCRIPTION:Breakfast: whole grain cereal; fruit; milk [center]\n\nLunch: macaroni & cheese; green salad; fruit; milk [center]\n\nSnack: yogurt; fruit [center & school-age]
URL:https://www.redcaboosechildcare.org/event/111-menu/
END:VEVENT
END:VCALENDAR