BEGIN:VCALENDAR
VERSION:2.0
PRODID:-//Red Caboose Childcare - ECPv4.4.3//NONSGML v1.0//EN
CALSCALE:GREGORIAN
METHOD:PUBLISH
X-WR-CALNAME:Red Caboose Childcare
X-ORIGINAL-URL:https://www.redcaboosechildcare.org
X-WR-CALDESC:Events for Red Caboose Childcare
BEGIN:VEVENT
DTSTART;VALUE=DATE:20220405
DTEND;VALUE=DATE:20220405
DTSTAMP:20260420T090526
CREATED:20220404T202703Z
LAST-MODIFIED:20220404T202703Z
UID:3817-1649116800-1649203199@www.redcaboosechildcare.org
SUMMARY:Menu 4/5
DESCRIPTION:Breakfast: French Toast Sticks\, Fruit & Milk\n\nLunch: Burger Sliders\, Veggies\, Fruit & Milk\n\nSnack: Yogurt & Fruit
URL:https://www.redcaboosechildcare.org/event/menu-45/
END:VEVENT
END:VCALENDAR