BEGIN:VCALENDAR
VERSION:2.0
PRODID:-//Red Caboose Childcare - ECPv4.4.3//NONSGML v1.0//EN
CALSCALE:GREGORIAN
METHOD:PUBLISH
X-WR-CALNAME:Red Caboose Childcare
X-ORIGINAL-URL:https://www.redcaboosechildcare.org
X-WR-CALDESC:Events for Red Caboose Childcare
BEGIN:VEVENT
DTSTART;VALUE=DATE:20210115
DTEND;VALUE=DATE:20210115
DTSTAMP:20260422T230838
CREATED:20210107T172613Z
LAST-MODIFIED:20210107T193211Z
UID:2310-1610668800-1610755199@www.redcaboosechildcare.org
SUMMARY:1/15 Menu
DESCRIPTION:Breakfast: potato & eggs with salsa; whole wheat toast; fruit; milk [center]\n\nLunch: sloppy Joe on whole wheat buns; spinach salad; fruit; milk [center]\n\nSnack: date bread with cream cheese [center & school-age]
URL:https://www.redcaboosechildcare.org/event/115-menu-2/
END:VEVENT
END:VCALENDAR