BEGIN:VCALENDAR
VERSION:2.0
PRODID:-//Red Caboose Childcare - ECPv4.4.3//NONSGML v1.0//EN
CALSCALE:GREGORIAN
METHOD:PUBLISH
X-WR-CALNAME:Red Caboose Childcare
X-ORIGINAL-URL:https://www.redcaboosechildcare.org
X-WR-CALDESC:Events for Red Caboose Childcare
BEGIN:VEVENT
DTSTART;VALUE=DATE:20210201
DTEND;VALUE=DATE:20210201
DTSTAMP:20260422T203328
CREATED:20210128T203228Z
LAST-MODIFIED:20210128T203228Z
UID:2345-1612137600-1612223999@www.redcaboosechildcare.org
SUMMARY:02/01 Menu
DESCRIPTION:Breakfast: whole grain cereal; fruit; milk [center]\n\nLunch: grilled cheese; vegetable soup; fruit; milk [center]\n\nSnack: yogurt banana split; fruit [center & school-age]
URL:https://www.redcaboosechildcare.org/event/0201-menu/
END:VEVENT
END:VCALENDAR