BEGIN:VCALENDAR
VERSION:2.0
PRODID:-//Red Caboose Childcare - ECPv4.4.3//NONSGML v1.0//EN
CALSCALE:GREGORIAN
METHOD:PUBLISH
X-WR-CALNAME:Red Caboose Childcare
X-ORIGINAL-URL:https://www.redcaboosechildcare.org
X-WR-CALDESC:Events for Red Caboose Childcare
BEGIN:VEVENT
DTSTART;VALUE=DATE:20210203
DTEND;VALUE=DATE:20210203
DTSTAMP:20260422T180406
CREATED:20210128T203535Z
LAST-MODIFIED:20210128T203535Z
UID:2349-1612310400-1612396799@www.redcaboosechildcare.org
SUMMARY:02/03 Menu
DESCRIPTION:Breakfast: cinnamon French toast with syrup; fruit; milk [center]\n\nLunch: steak; carrots\, potatoes; whole grain rolls; fruit; milk [center]\n\nSnack: cheese & crackers [center & school-age]
URL:https://www.redcaboosechildcare.org/event/0203-menu/
END:VEVENT
END:VCALENDAR