BEGIN:VCALENDAR
VERSION:2.0
PRODID:-//Red Caboose Childcare - ECPv4.4.3//NONSGML v1.0//EN
CALSCALE:GREGORIAN
METHOD:PUBLISH
X-WR-CALNAME:Red Caboose Childcare
X-ORIGINAL-URL:https://www.redcaboosechildcare.org
X-WR-CALDESC:Events for Red Caboose Childcare
BEGIN:VEVENT
DTSTART;VALUE=DATE:20210204
DTEND;VALUE=DATE:20210204
DTSTAMP:20260422T164727
CREATED:20210128T203707Z
LAST-MODIFIED:20210128T203707Z
UID:2351-1612396800-1612483199@www.redcaboosechildcare.org
SUMMARY:02/04 Menu
DESCRIPTION:Breakfast: blueberry pancakes; fruit; milk [center]\n\nLunch: crazy noodles alfredo; green beans; fruit; milk [center]\n\nSnack: hard boiled eggs; saltines [center & school-age]
URL:https://www.redcaboosechildcare.org/event/0204-menu/
END:VEVENT
END:VCALENDAR