BEGIN:VCALENDAR
VERSION:2.0
PRODID:-//Red Caboose Childcare - ECPv4.4.3//NONSGML v1.0//EN
CALSCALE:GREGORIAN
METHOD:PUBLISH
X-WR-CALNAME:Red Caboose Childcare
X-ORIGINAL-URL:https://www.redcaboosechildcare.org
X-WR-CALDESC:Events for Red Caboose Childcare
BEGIN:VEVENT
DTSTART;VALUE=DATE:20210216
DTEND;VALUE=DATE:20210216
DTSTAMP:20260421T231950
CREATED:20210210T193157Z
LAST-MODIFIED:20210210T193157Z
UID:2403-1613433600-1613519999@www.redcaboosechildcare.org
SUMMARY:02/16 Menu
DESCRIPTION:Breakfast: cheesy eggs; whole wheat English muffins; fruit; milk [center]\n\nLunch: hard-shelled tacos with olives\, lettuce\, tomato\, & sour cream; fruit; milk [center]\n\nSnack: vanilla wafers; fruit [center & school-age]
URL:https://www.redcaboosechildcare.org/event/0216-menu/
END:VEVENT
END:VCALENDAR