BEGIN:VCALENDAR
VERSION:2.0
PRODID:-//Red Caboose Childcare - ECPv4.4.3//NONSGML v1.0//EN
CALSCALE:GREGORIAN
METHOD:PUBLISH
X-WR-CALNAME:Red Caboose Childcare
X-ORIGINAL-URL:https://www.redcaboosechildcare.org
X-WR-CALDESC:Events for Red Caboose Childcare
BEGIN:VEVENT
DTSTART;VALUE=DATE:20210217
DTEND;VALUE=DATE:20210217
DTSTAMP:20260421T215950
CREATED:20210210T193307Z
LAST-MODIFIED:20210210T193307Z
UID:2405-1613520000-1613606399@www.redcaboosechildcare.org
SUMMARY:02/17 Menu
DESCRIPTION:Breakfast: banana pancakes with syrup; fruit; milk [center]\n\nLunch: Mardi Gras jambalaya; cornbread; fruit; milk [center]\n\nSnack: cereal mix; fruit [center & school-age]
URL:https://www.redcaboosechildcare.org/event/0217-menu/
END:VEVENT
END:VCALENDAR