BEGIN:VCALENDAR
VERSION:2.0
PRODID:-//Red Caboose Childcare - ECPv4.4.3//NONSGML v1.0//EN
CALSCALE:GREGORIAN
METHOD:PUBLISH
X-WR-CALNAME:Red Caboose Childcare
X-ORIGINAL-URL:https://www.redcaboosechildcare.org
X-WR-CALDESC:Events for Red Caboose Childcare
BEGIN:VEVENT
DTSTART;VALUE=DATE:20210218
DTEND;VALUE=DATE:20210218
DTSTAMP:20260421T231737
CREATED:20210210T193419Z
LAST-MODIFIED:20210210T193419Z
UID:2407-1613606400-1613692799@www.redcaboosechildcare.org
SUMMARY:02/18 Menu
DESCRIPTION:Breakfast: fruit crisp; fruit; milk [center]\n\nLunch: meatloaf; roasted vegetables; whole grain bread; fruit; milk [center]\n\nSnack: pretzels; fruit [center & school-age]
URL:https://www.redcaboosechildcare.org/event/0218-menu/
END:VEVENT
END:VCALENDAR