BEGIN:VCALENDAR
VERSION:2.0
PRODID:-//Red Caboose Childcare - ECPv4.4.3//NONSGML v1.0//EN
CALSCALE:GREGORIAN
METHOD:PUBLISH
X-WR-CALNAME:Red Caboose Childcare
X-ORIGINAL-URL:https://www.redcaboosechildcare.org
X-WR-CALDESC:Events for Red Caboose Childcare
BEGIN:VEVENT
DTSTART;VALUE=DATE:20210510
DTEND;VALUE=DATE:20210510
DTSTAMP:20260422T233553
CREATED:20210505T191321Z
LAST-MODIFIED:20210505T191321Z
UID:2779-1620604800-1620691199@www.redcaboosechildcare.org
SUMMARY:5/10 Menu
DESCRIPTION:Breakfast: whole grain cereal; fruit; milk [center]\n\nLunch: meatloaf; brown rice pilaf; fruit; milk [center]\n\nSnack: apple sauce; graham crackers [center & school age]
URL:https://www.redcaboosechildcare.org/event/510-menu/
END:VEVENT
END:VCALENDAR