BEGIN:VCALENDAR
VERSION:2.0
PRODID:-//Red Caboose Childcare - ECPv4.4.3//NONSGML v1.0//EN
CALSCALE:GREGORIAN
METHOD:PUBLISH
X-WR-CALNAME:Red Caboose Childcare
X-ORIGINAL-URL:https://www.redcaboosechildcare.org
X-WR-CALDESC:Events for Red Caboose Childcare
BEGIN:VEVENT
DTSTART;VALUE=DATE:20210514
DTEND;VALUE=DATE:20210514
DTSTAMP:20260422T233624
CREATED:20210505T191733Z
LAST-MODIFIED:20210505T191733Z
UID:2787-1620950400-1621036799@www.redcaboosechildcare.org
SUMMARY:5/14 Menu
DESCRIPTION:Breakfast: whole wheat bagels with cream cheese; fruit; milk [center]\n\nLunch: baked cod; broccoli; brown rice; fruit; milk [center]\n\nSnack: pretzels; fruit [center & school age]
URL:https://www.redcaboosechildcare.org/event/514-menu/
END:VEVENT
END:VCALENDAR