BEGIN:VCALENDAR
VERSION:2.0
PRODID:-//Red Caboose Childcare - ECPv4.4.3//NONSGML v1.0//EN
CALSCALE:GREGORIAN
METHOD:PUBLISH
X-WR-CALNAME:Red Caboose Childcare
X-ORIGINAL-URL:https://www.redcaboosechildcare.org
X-WR-CALDESC:Events for Red Caboose Childcare
BEGIN:VEVENT
DTSTART;VALUE=DATE:20220404
DTEND;VALUE=DATE:20220404
DTSTAMP:20260421T185629
CREATED:20220404T202524Z
LAST-MODIFIED:20220404T202524Z
UID:3815-1649030400-1649116799@www.redcaboosechildcare.org
SUMMARY:Menu 4/4
DESCRIPTION:Breakfast: Muffins\, Applesauce & Milk\n\nLunch: Turkey w/noodles\, Green Beans\, Fruit & Milk\n\nSnack: Pretzels & Cottage Cheese
URL:https://www.redcaboosechildcare.org/event/menu-44/
END:VEVENT
END:VCALENDAR